BEGIN:VCALENDAR
VERSION:2.0
PRODID:-//Les mARTmites - ECPv6.9.0//NONSGML v1.0//EN
CALSCALE:GREGORIAN
METHOD:PUBLISH
X-WR-CALNAME:Les mARTmites
X-ORIGINAL-URL:https://www.martmites.com
X-WR-CALDESC:Évènements pour Les mARTmites
REFRESH-INTERVAL;VALUE=DURATION:PT1H
X-Robots-Tag:noindex
X-PUBLISHED-TTL:PT1H
BEGIN:VTIMEZONE
TZID:Europe/Paris
BEGIN:DAYLIGHT
TZOFFSETFROM:+0100
TZOFFSETTO:+0200
TZNAME:CEST
DTSTART:20240331T010000
END:DAYLIGHT
BEGIN:STANDARD
TZOFFSETFROM:+0200
TZOFFSETTO:+0100
TZNAME:CET
DTSTART:20241027T010000
END:STANDARD
END:VTIMEZONE
BEGIN:VEVENT
DTSTART;VALUE=DATE:20240526
DTEND;VALUE=DATE:20240527
DTSTAMP:20260424T055324
CREATED:20240430T132821Z
LAST-MODIFIED:20240430T132821Z
UID:1078-1716681600-1716767999@www.martmites.com
SUMMARY:Fête de la nature - Programme du dimanche 26 mai
DESCRIPTION:Les mARTmites & Le Petit Duc s’associent pour la Fête de la Nature à Saint-Etienne-Les-Orgues pour un printemps à la découverte de la biodiversité  ! \nL’occasion de partager des pratiques\, des envies\, des découvertes\, des moments au jardin de la forêt en famille. \nLe dimanche 26 mai 2024\n\n10h30 – 18h00\nJour 5\nDans Le jardin de la forêt \nEspace détente\, expos sur les rapaces\, livres et jeux pour petits et grands \nPetite restauration de produits locaux sur place avec les bénévoles de l’association Le Petit Duc. \n14h : découverte d’une ruche & dégustation de miel\n15h30 : Conférence gesticulée Mathieu Dalmais : « de la fourche à la fourchette » 2H pour une sécurité sociale de l’alimentation\nGoûter  Crêpes et buvette \n \n\nPour entrer dans le jardin de la forêt :\nvous pouvez vous y rendre à pied par le Boulevard Caste ou en voiture par la route de Lure 
URL:https://www.martmites.com/event/fete-de-la-nature-programme-du-dimanche-26-mai/
LOCATION:Jardin de la forêt\, Bd Charles Caste\, Saint-Etienne-Les-Orgues\, 04230
CATEGORIES:Culturel,rendez-vous
ATTACH;FMTTYPE=image/jpeg:https://www.martmites.com/wp-content/uploads/2024/04/IMG_20240430_151907.jpg
END:VEVENT
BEGIN:VEVENT
DTSTART;TZID=Europe/Paris:20240526T153000
DTEND;TZID=Europe/Paris:20240526T173000
DTSTAMP:20260424T055324
CREATED:20240430T104049Z
LAST-MODIFIED:20240430T124817Z
UID:1060-1716737400-1716744600@www.martmites.com
SUMMARY:"De la fourche à la fourchette... Non ! L'inverse !" Une conférence gesticulée de Mathieu Dalmais
DESCRIPTION:Conférence gesticulée  \n“ De la fourche à la fourchette… Non ! L’inverse ! “  \nPour une Sécurité sociale de l’alimentation \nDe et par Mathieu Dalmais \nDurée : 1h45\, puis échanges avec le public \nGratuit sur adhésion à l’association  \nA l’origine du projet et de la dynamique sur la Sécurité sociale de l’alimentation\, cette conférence retrace le parcours d’agronome de Mathieu Dalmais\, engagé pour une agriculture agroécologique et pour la souveraineté alimentaire à la nécessité de construire de la démocratie dans notre alimentation.  \nAprès une introduction sur les enjeux agricoles\, Mathieu Dalmais insiste sur l’impossibilité de transformer l’agriculture en ne se concentrant que sur les pratiques et politiques agricoles\, c’est à dire sans se donner également les moyens de transformer notre alimentation\, nos politiques alimentaires. Il dévoile alors l’état des lieux des politiques alimentaires et les violences alimentaires véhiculées par l’institutionnalisation\, dans la durée\, de l’aide alimentaire\, appuyant la nécessité d’assurer le droit à l’alimentation.  \nCes deux analyses convergeant vers la nécessité de mettre en place de la démocratie dans notre système agricole et alimentaire\, il entame alors la dernière page de sa conférence en introduisant le projet de Sécurité sociale de l’alimentation – ou comment instaurer cette démocratie – et les réflexions stratégiques qui l’ont menées à le proposer et le faire vivre.  \nLe tout parsemé de chansons\, de liens entre alimentation et santé et de perspectives historiques sur l’instrumentalisation de l’alimentation. \nPlus d’infos : https://conferences-gesticulees.net/conferences/de-fourche-a-fourchette-non-linverse/ \nUne conférence a écouter le dernier jour de la fête de la nature\, dimanche 26 mai à 15h30 au jardin de la forêt. \nPour entrer dans le jardin de la forêt vous pouvez vous y rendre à pied par le Boulevard Caste ou en voiture par la route de Lure 
URL:https://www.martmites.com/event/de-la-fourche-a-la-fourchette-non-linverse-une-conference-gesticulee-de-mathieu-dalmais/
LOCATION:Jardin de la forêt\, Bd Charles Caste\, Saint-Etienne-Les-Orgues\, 04230
CATEGORIES:Culturel
ATTACH;FMTTYPE=image/png:https://www.martmites.com/wp-content/uploads/2024/04/Carte_vitale_alimentation.png
END:VEVENT
END:VCALENDAR