BEGIN:VCALENDAR
VERSION:2.0
PRODID:-//Les mARTmites - ECPv6.9.0//NONSGML v1.0//EN
CALSCALE:GREGORIAN
METHOD:PUBLISH
X-WR-CALNAME:Les mARTmites
X-ORIGINAL-URL:https://www.martmites.com
X-WR-CALDESC:Évènements pour Les mARTmites
REFRESH-INTERVAL;VALUE=DURATION:PT1H
X-Robots-Tag:noindex
X-PUBLISHED-TTL:PT1H
BEGIN:VTIMEZONE
TZID:Europe/Paris
BEGIN:DAYLIGHT
TZOFFSETFROM:+0100
TZOFFSETTO:+0200
TZNAME:CEST
DTSTART:20240331T010000
END:DAYLIGHT
BEGIN:STANDARD
TZOFFSETFROM:+0200
TZOFFSETTO:+0100
TZNAME:CET
DTSTART:20241027T010000
END:STANDARD
END:VTIMEZONE
BEGIN:VEVENT
DTSTART;TZID=Europe/Paris:20240702T080000
DTEND;TZID=Europe/Paris:20240705T170000
DTSTAMP:20260424T032935
CREATED:20240702T081249Z
LAST-MODIFIED:20240702T081249Z
UID:1132-1719907200-1720198800@www.martmites.com
SUMMARY:Atelier musique avec la Cie Peek A Boo
DESCRIPTION:Dans le cadre du dispositif  « l’été culturel » de la DRAC Paca\, les mARTmites invitent la Compagnie Peek A Boo pour une résidence d’artiste à Saint-Etienne-les-Orgues. \nLa compagnie interviendra à l’école communale les 2\, 4 et 5 juillet et propose la création d’un conte musical à partir d’une histoire écrite et mise en musique par les enfants mais également la découverte de plusieurs instruments.
URL:https://www.martmites.com/event/atelier-musique-avec-la-cie-peek-a-boo/
LOCATION:Ecole Saint-Etienne-Les-Orgues
CATEGORIES:Culturel
ATTACH;FMTTYPE=image/png:https://www.martmites.com/wp-content/uploads/2024/07/pkb.png
END:VEVENT
END:VCALENDAR