BEGIN:VCALENDAR
VERSION:2.0
PRODID:-//Les mARTmites - ECPv6.9.0//NONSGML v1.0//EN
CALSCALE:GREGORIAN
METHOD:PUBLISH
X-WR-CALNAME:Les mARTmites
X-ORIGINAL-URL:https://www.martmites.com
X-WR-CALDESC:Évènements pour Les mARTmites
REFRESH-INTERVAL;VALUE=DURATION:PT1H
X-Robots-Tag:noindex
X-PUBLISHED-TTL:PT1H
BEGIN:VTIMEZONE
TZID:Europe/Paris
BEGIN:DAYLIGHT
TZOFFSETFROM:+0100
TZOFFSETTO:+0200
TZNAME:CEST
DTSTART:20240331T010000
END:DAYLIGHT
BEGIN:STANDARD
TZOFFSETFROM:+0200
TZOFFSETTO:+0100
TZNAME:CET
DTSTART:20241027T010000
END:STANDARD
END:VTIMEZONE
BEGIN:VEVENT
DTSTART;TZID=Europe/Paris:20240708T080000
DTEND;TZID=Europe/Paris:20240712T170000
DTSTAMP:20260424T033142
CREATED:20240620T121144Z
LAST-MODIFIED:20240620T121144Z
UID:1094-1720425600-1720803600@www.martmites.com
SUMMARY:Atelier fabrication de marionnettes avec Philippe Payraud
DESCRIPTION:Atelier fabrication de marionnettes avec les enfants du centre de loisir de Saint-Etienne-les-Orgues  \nDiplômé de l’Ecole Nationale Supérieure des Arts de la Marionnette de Charleville-Mézières et formé à l’art clownesque au Centre national des Arts du Cirque\, Philippe Payraud est depuis 25 ans\, interprète\, concepteur/constructeur ou metteur en scène\, au gré de différentes compagnies\, dans lesquelles il se consacre plus spécifiquement au jeu d’acteur\, de masques et de marionnettes sous de multiples aspects.  \nIl interviendra auprès des enfants centre de loisir pendant une semaine pour une initiation à l’Art de la marionnette.  \n  \n  \n 
URL:https://www.martmites.com/event/atelier-fabrication-de-marionnettes-avec-philippe-payraud/
CATEGORIES:Culturel
ATTACH;FMTTYPE=image/png:https://www.martmites.com/wp-content/uploads/2024/06/pp.png
END:VEVENT
END:VCALENDAR