BEGIN:VCALENDAR
VERSION:2.0
PRODID:-//Les mARTmites - ECPv6.9.0//NONSGML v1.0//EN
CALSCALE:GREGORIAN
METHOD:PUBLISH
X-WR-CALNAME:Les mARTmites
X-ORIGINAL-URL:https://www.martmites.com
X-WR-CALDESC:Évènements pour Les mARTmites
REFRESH-INTERVAL;VALUE=DURATION:PT1H
X-Robots-Tag:noindex
X-PUBLISHED-TTL:PT1H
BEGIN:VTIMEZONE
TZID:Europe/Paris
BEGIN:DAYLIGHT
TZOFFSETFROM:+0100
TZOFFSETTO:+0200
TZNAME:CEST
DTSTART:20240331T010000
END:DAYLIGHT
BEGIN:STANDARD
TZOFFSETFROM:+0200
TZOFFSETTO:+0100
TZNAME:CET
DTSTART:20241027T010000
END:STANDARD
END:VTIMEZONE
BEGIN:VEVENT
DTSTART;TZID=Europe/Paris:20241015T093000
DTEND;TZID=Europe/Paris:20241015T120000
DTSTAMP:20260424T001251
CREATED:20240916T073812Z
LAST-MODIFIED:20240916T073930Z
UID:1160-1728984600-1728993600@www.martmites.com
SUMMARY:Eveil musical 0-3 ans avec la Cie du Mirliton
DESCRIPTION:L’éveil musical a pour but de faire découvrir le monde des sons. C’est un temps privilégié pour permettre à chaque enfant de développer ses capacités d’écoute et de s’ouvrir à l’univers de la musique. Ils découvrent alors le plaisir de communiquer et de jouer par le biais de la musique. Dans chaque atelier\, l’intervenant instaure un cadre bienveillant qui permet d’éveiller la curiosité\, tout en favorisant la concentration\, la coordination et la mémorisation. \nAuditorium – médiathèque de Saint-Etienne-les-Orgues \nRéservation conseillée 
URL:https://www.martmites.com/event/eveil-musical-0-3-ans-avec-la-cie-du-mirliton/
LOCATION:Auditorium de Saint-Etienne-les-Orgues
CATEGORIES:Culturel
ATTACH;FMTTYPE=image/jpeg:https://www.martmites.com/wp-content/uploads/2024/09/IMGP5000-scaled.jpg
END:VEVENT
END:VCALENDAR