BEGIN:VCALENDAR
VERSION:2.0
PRODID:-//Les mARTmites - ECPv6.9.0//NONSGML v1.0//EN
CALSCALE:GREGORIAN
METHOD:PUBLISH
X-WR-CALNAME:Les mARTmites
X-ORIGINAL-URL:https://www.martmites.com
X-WR-CALDESC:Évènements pour Les mARTmites
REFRESH-INTERVAL;VALUE=DURATION:PT1H
X-Robots-Tag:noindex
X-PUBLISHED-TTL:PT1H
BEGIN:VTIMEZONE
TZID:Europe/Paris
BEGIN:DAYLIGHT
TZOFFSETFROM:+0100
TZOFFSETTO:+0200
TZNAME:CEST
DTSTART:20230326T010000
END:DAYLIGHT
BEGIN:STANDARD
TZOFFSETFROM:+0200
TZOFFSETTO:+0100
TZNAME:CET
DTSTART:20231029T010000
END:STANDARD
END:VTIMEZONE
BEGIN:VEVENT
DTSTART;TZID=Europe/Paris:20230527T080000
DTEND;TZID=Europe/Paris:20230528T190000
DTSTAMP:20260421T060239
CREATED:20230526T073820Z
LAST-MODIFIED:20230526T073913Z
UID:765-1685174400-1685300400@www.martmites.com
SUMMARY:programme du Born in Mane\, le festival
DESCRIPTION:
URL:https://www.martmites.com/event/programme-du-born-in-mane-le-festival/
LOCATION:mane
CATEGORIES:Culturel,rendez-vous
ATTACH;FMTTYPE=image/png:https://www.martmites.com/wp-content/uploads/2023/05/planning-born-in.png
END:VEVENT
END:VCALENDAR