BEGIN:VCALENDAR
VERSION:2.0
PRODID:-//Les mARTmites - ECPv6.9.0//NONSGML v1.0//EN
CALSCALE:GREGORIAN
METHOD:PUBLISH
X-WR-CALNAME:Les mARTmites
X-ORIGINAL-URL:https://www.martmites.com
X-WR-CALDESC:Évènements pour Les mARTmites
REFRESH-INTERVAL;VALUE=DURATION:PT1H
X-Robots-Tag:noindex
X-PUBLISHED-TTL:PT1H
BEGIN:VTIMEZONE
TZID:Europe/Paris
BEGIN:DAYLIGHT
TZOFFSETFROM:+0100
TZOFFSETTO:+0200
TZNAME:CEST
DTSTART:20240331T010000
END:DAYLIGHT
BEGIN:STANDARD
TZOFFSETFROM:+0200
TZOFFSETTO:+0100
TZNAME:CET
DTSTART:20241027T010000
END:STANDARD
END:VTIMEZONE
BEGIN:VEVENT
DTSTART;TZID=Europe/Paris:20240111T173000
DTEND;TZID=Europe/Paris:20240111T173000
DTSTAMP:20260420T181142
CREATED:20231221T113403Z
LAST-MODIFIED:20231221T114541Z
UID:959-1704994200-1704994200@www.martmites.com
SUMMARY:Apero de rentrée
DESCRIPTION:Retrouvez-nous à la rentrée\, le jeudi 11 janvier pour un apéro à Saint-Etienne-les-Orgues. L’occasion de partager un verre\, d’écouter un conte avec Daniel Girault et de vous présenter nos actions à venir dans le village.\n A 17H30\n Dans les locaux du Petit Duc (place de la fontaine ronde).\n 
URL:https://www.martmites.com/event/apero-de-rentree/
CATEGORIES:rendez-vous
ATTACH;FMTTYPE=image/png:https://www.martmites.com/wp-content/uploads/2023/12/Apero-benevoles-janvier-2024.png
END:VEVENT
END:VCALENDAR