BEGIN:VCALENDAR
VERSION:2.0
PRODID:-//Les mARTmites - ECPv6.9.0//NONSGML v1.0//EN
CALSCALE:GREGORIAN
METHOD:PUBLISH
X-ORIGINAL-URL:https://www.martmites.com
X-WR-CALDESC:Évènements pour Les mARTmites
REFRESH-INTERVAL;VALUE=DURATION:PT1H
X-Robots-Tag:noindex
X-PUBLISHED-TTL:PT1H
BEGIN:VTIMEZONE
TZID:Europe/Paris
BEGIN:DAYLIGHT
TZOFFSETFROM:+0100
TZOFFSETTO:+0200
TZNAME:CEST
DTSTART:20240331T010000
END:DAYLIGHT
BEGIN:STANDARD
TZOFFSETFROM:+0200
TZOFFSETTO:+0100
TZNAME:CET
DTSTART:20241027T010000
END:STANDARD
END:VTIMEZONE
BEGIN:VEVENT
DTSTART;VALUE=DATE:20240522
DTEND;VALUE=DATE:20240523
DTSTAMP:20260420T130305
CREATED:20240430T130438Z
LAST-MODIFIED:20240430T130438Z
UID:1069-1716336000-1716422399@www.martmites.com
SUMMARY:Fête de la nature - programme du mercredi 22 mai
DESCRIPTION:Les mARTmites & Le Petit Duc s’associent pour la Fête de la Nature à Saint-Etienne-Les-Orgues pour un printemps à la découverte de la biodiversité  ! \nL’occasion de partager des pratiques\, des envies\, des découvertes\, des moments au jardin de la forêt en famille ! \nLe 22 mai 2024\n\n10h00 – 20h00\nJour 1 : découverte et partage\nAu jardin de la forêt à Saint-Etienne-les-Orgues \nDès 10h :\nAccueil avec La Lub’Ambule\, la caravane du Parc Naturel Régional du Luberon ( sensibilisation\, information\, animation)\nEspace détente\, expos sur les rapaces\, livres et jeux pour petits et grands \n14h-16h : Ateliers fabrication de nichoirs avec le Petit Duc \n15h – 16h : Écoute sonore des ateliers radiophoniques sur l’environnement  réalisé par les enfants du centre de loisirs \n18h – 20h : auditorium de la médiathèque – Documentaire  sur les chauve-souris “Migrations secrètes \, la pipistrelle de Nathusius de Benoît Dewarle et Alexis Defacilsk. Durée 50’ + débat échange avec la salle. Avec Emmanuel Cosson\, directeur du GCHP https://www.gcprovence.org/ \n\n \nPour entrer dans le jardin de la forêt :\nvous pouvez vous y rendre à pied par le Boulevard Caste ou en voiture par la route de Lure \n \n\n 
URL:https://www.martmites.com/event/fete-de-la-nature-programme-du-mercredi-22-mai/
LOCATION:Jardin de la forêt\, Bd Charles Caste\, Saint-Etienne-Les-Orgues\, 04230
CATEGORIES:Culturel,rendez-vous
ATTACH;FMTTYPE=image/png:https://www.martmites.com/wp-content/uploads/2024/04/fete-de-la-nature-.png
END:VEVENT
BEGIN:VEVENT
DTSTART;VALUE=DATE:20240525
DTEND;VALUE=DATE:20240526
DTSTAMP:20260420T130305
CREATED:20240430T130952Z
LAST-MODIFIED:20240430T133256Z
UID:1072-1716595200-1716681599@www.martmites.com
SUMMARY:Fête de la nature - Programme du samedi 25 mai
DESCRIPTION:Les mARTmites & Le Petit Duc s’associent pour la Fête de la Nature à Saint-Etienne-Les-Orgues pour un printemps à la découverte de la biodiversité  ! \nL’occasion de partager des pratiques\, des envies\, des découvertes\, des moments au jardin de la forêt en famille. \nLe 25 mai 2024\n\n10h30 – 18h00\nJour 4\nDans Le jardin de la forêt\nEspace détente\, expos sur les rapaces\, livres et jeux pour petits et grands\, atelier cyanotype\, découverte de la ruche\, les 4 fauconniers avec animations diverses autour des rapaces + expo sur les rapaces. \nPetite restauration de produits locaux sur place avec les bénévoles de l’association Le Petit Duc. \n15h contes avec Daniel\nGoûter  Crêpes et buvette \n\nPour entrer dans le jardin de la forêt :\nvous pouvez vous y rendre à pied par le Boulevard Caste ou en voiture par la route de Lure 
URL:https://www.martmites.com/event/fete-de-la-nature-programme-du-samedi-25-mai/
LOCATION:Jardin de la forêt\, Bd Charles Caste\, Saint-Etienne-Les-Orgues\, 04230
CATEGORIES:Culturel,rendez-vous
ATTACH;FMTTYPE=image/png:https://www.martmites.com/wp-content/uploads/2024/04/sz.png
END:VEVENT
BEGIN:VEVENT
DTSTART;VALUE=DATE:20240526
DTEND;VALUE=DATE:20240527
DTSTAMP:20260420T130305
CREATED:20240430T132821Z
LAST-MODIFIED:20240430T132821Z
UID:1078-1716681600-1716767999@www.martmites.com
SUMMARY:Fête de la nature - Programme du dimanche 26 mai
DESCRIPTION:Les mARTmites & Le Petit Duc s’associent pour la Fête de la Nature à Saint-Etienne-Les-Orgues pour un printemps à la découverte de la biodiversité  ! \nL’occasion de partager des pratiques\, des envies\, des découvertes\, des moments au jardin de la forêt en famille. \nLe dimanche 26 mai 2024\n\n10h30 – 18h00\nJour 5\nDans Le jardin de la forêt \nEspace détente\, expos sur les rapaces\, livres et jeux pour petits et grands \nPetite restauration de produits locaux sur place avec les bénévoles de l’association Le Petit Duc. \n14h : découverte d’une ruche & dégustation de miel\n15h30 : Conférence gesticulée Mathieu Dalmais : « de la fourche à la fourchette » 2H pour une sécurité sociale de l’alimentation\nGoûter  Crêpes et buvette \n \n\nPour entrer dans le jardin de la forêt :\nvous pouvez vous y rendre à pied par le Boulevard Caste ou en voiture par la route de Lure 
URL:https://www.martmites.com/event/fete-de-la-nature-programme-du-dimanche-26-mai/
LOCATION:Jardin de la forêt\, Bd Charles Caste\, Saint-Etienne-Les-Orgues\, 04230
CATEGORIES:Culturel,rendez-vous
ATTACH;FMTTYPE=image/jpeg:https://www.martmites.com/wp-content/uploads/2024/04/IMG_20240430_151907.jpg
END:VEVENT
END:VCALENDAR