BEGIN:VCALENDAR
VERSION:2.0
PRODID:-//Les mARTmites - ECPv6.9.0//NONSGML v1.0//EN
CALSCALE:GREGORIAN
METHOD:PUBLISH
X-ORIGINAL-URL:https://www.martmites.com
X-WR-CALDESC:Évènements pour Les mARTmites
REFRESH-INTERVAL;VALUE=DURATION:PT1H
X-Robots-Tag:noindex
X-PUBLISHED-TTL:PT1H
BEGIN:VTIMEZONE
TZID:Europe/Paris
BEGIN:DAYLIGHT
TZOFFSETFROM:+0100
TZOFFSETTO:+0200
TZNAME:CEST
DTSTART:20230326T010000
END:DAYLIGHT
BEGIN:STANDARD
TZOFFSETFROM:+0200
TZOFFSETTO:+0100
TZNAME:CET
DTSTART:20231029T010000
END:STANDARD
END:VTIMEZONE
BEGIN:VEVENT
DTSTART;TZID=Europe/Paris:20230209T153000
DTEND;TZID=Europe/Paris:20230209T170000
DTSTAMP:20260424T233557
CREATED:20230208T142803Z
LAST-MODIFIED:20230208T143449Z
UID:502-1675956600-1675962000@www.martmites.com
SUMMARY:Performance dans l'espace public
DESCRIPTION:
URL:https://www.martmites.com/event/performance-dans-lespace-public/
LOCATION:Marché de Forcalquier\, place du Bourguet\, Forcalquier\, 04300\, France
ATTACH;FMTTYPE=image/jpeg:https://www.martmites.com/wp-content/uploads/2023/02/328673200_539060121340645_4539664300935325417_n.jpg
END:VEVENT
END:VCALENDAR