BEGIN:VCALENDAR
VERSION:2.0
PRODID:-//Les mARTmites - ECPv6.9.0//NONSGML v1.0//EN
CALSCALE:GREGORIAN
METHOD:PUBLISH
X-WR-CALNAME:Les mARTmites
X-ORIGINAL-URL:https://www.martmites.com
X-WR-CALDESC:Évènements pour Les mARTmites
REFRESH-INTERVAL;VALUE=DURATION:PT1H
X-Robots-Tag:noindex
X-PUBLISHED-TTL:PT1H
BEGIN:VTIMEZONE
TZID:Europe/Paris
BEGIN:DAYLIGHT
TZOFFSETFROM:+0100
TZOFFSETTO:+0200
TZNAME:CEST
DTSTART:20230326T010000
END:DAYLIGHT
BEGIN:STANDARD
TZOFFSETFROM:+0200
TZOFFSETTO:+0100
TZNAME:CET
DTSTART:20231029T010000
END:STANDARD
END:VTIMEZONE
BEGIN:VEVENT
DTSTART;TZID=Europe/Paris:20230509T100000
DTEND;TZID=Europe/Paris:20230509T103000
DTSTAMP:20260424T195652
CREATED:20230427T131023Z
LAST-MODIFIED:20230429T085837Z
UID:750-1683626400-1683628200@www.martmites.com
SUMMARY:Entends-tu ? Spectacle pour les 0-3ans
DESCRIPTION:Entends tu ?  spectacle musical très jeune public ( 0-3ans) \ndurée 30 min\n \nPartons ensemble en balade. En chanson et enchanté\, suivons les tribulations d’un petit œuf sur le point d’éclore. La forêt va s’éveiller tout autour de lui pour nous embarquer dans des univers sonores plus surprenants les uns que les autres.\n\nSans parole ( ou presque )\, musical et visuel Entends tu ? est un spectacle particulièrement adapté pour le très jeune public \n\nAdhésion obligatoire à l’association des mARTmites \n 
URL:https://www.martmites.com/event/entends-tu-spectacle-pour-les-0-3ans/
LOCATION:Instant Zen Mane\, Avenue de la Burlière\, France
CATEGORIES:Culturel
ATTACH;FMTTYPE=image/jpeg:https://www.martmites.com/wp-content/uploads/2023/04/Dossier-artistique-Entends-Tu-.jpg
END:VEVENT
BEGIN:VEVENT
DTSTART;TZID=Europe/Paris:20230513T100000
DTEND;TZID=Europe/Paris:20230513T120000
DTSTAMP:20260424T195652
CREATED:20230406T092642Z
LAST-MODIFIED:20230406T105625Z
UID:734-1683972000-1683979200@www.martmites.com
SUMMARY:Balade insolite avec Sarah Ouazzani
DESCRIPTION:Balade insolite avec Sarah Ouazzani\, artiste sonore et vidéaste https://www.o-sarah.com/\nMunie d’un appareil photo thermique à impression\, de matériel de dessin et de petits instruments de musique\, vous pourrez prendre des photos\, les coloriser\, profiter d’une pause musicale… autant d’outils pour regarder\, écouter et transformer le paysage de Mane.\n\n\nRendez-vous au square de Mane – Balade de deux heures environ\n\nCopyright Photo – Sarah Ouazzani
URL:https://www.martmites.com/event/balade-insolite-avec-sarah-ouazzani/
CATEGORIES:Culturel
ATTACH;FMTTYPE=image/png:https://www.martmites.com/wp-content/uploads/2023/04/balade-image.png
END:VEVENT
BEGIN:VEVENT
DTSTART;TZID=Europe/Paris:20230526T210000
DTEND;TZID=Europe/Paris:20230526T210000
DTSTAMP:20260424T195652
CREATED:20230209T122440Z
LAST-MODIFIED:20230406T105608Z
UID:607-1685134800-1685134800@www.martmites.com
SUMMARY:Le Bal des Ardent-es
DESCRIPTION:LE BAL DES ARDENT·ES est un dancefloor thérapeutique et résistant née des collaborations passées entre l’artiste performeuse et chorégraphe Johanna Rocard et la DJ Amandine Braud. Après trois années de collecte de morceaux de musique qui donnent du courage lors du projet BRAVES\, elles livrent aujourd’hui un format hybride\, où les danses de sols s’allient aux pratiques somatiques\, aux gestes de luttes\, à la littérature résistante et à la puissance empouvoirante de la musique pour offrir un espace-temps de soins alternatifs. \nDans la tradition des danseur.ses cathartiques\, des performeur.ses mènent le bal\, accompagnant les participant.es dans un rituel festif atemporel. Un vestiaire de parures/armures est mis à disposition et derrière les casquette à cornes\, les masques de perles\, les manteaux à franges\, les faux culs et les cagoules\, s’invitent les figures des charivaris\, des transes populaires\, des renversements et des révoltes. \nC’est le retour des créatures des marges et des périphéries qui à nouveau embras(s)ent les sols de danses comme un acte collectif de guérison.
URL:https://www.martmites.com/event/le-bal-des-ardent-es/
LOCATION:Square de Mane
CATEGORIES:Culturel
ATTACH;FMTTYPE=image/png:https://www.martmites.com/wp-content/uploads/2023/02/Photo_ardentes_bassedef.png
END:VEVENT
BEGIN:VEVENT
DTSTART;VALUE=DATE:20230527
DTEND;VALUE=DATE:20230529
DTSTAMP:20260424T195652
CREATED:20230209T122917Z
LAST-MODIFIED:20230505T130700Z
UID:609-1685145600-1685318399@www.martmites.com
SUMMARY:Les mARTmites soutiennent le festival du Born in Mane
DESCRIPTION:Born in Mane\, c’est l’idée d’un festival de performances insolites\, chez l’habitant·e\, c’est–à–dire chez vous\, chez moi\, chez nous\, qui se déroulera les 27 et 28 mai 2023 dans le village de Mane. Un week–end où Mane se transformera en rafales de joie…  \nLe born in Mane en Provence a vu le jour suite à la résidence de Camille Lacôme aux mARTmites. \nLe programme complet à télécharger Ici
URL:https://www.martmites.com/event/les-martmites-soutiennent-le-festival-du-burning-mane-en-provence/
LOCATION:Square de Mane
CATEGORIES:Culturel
ATTACH;FMTTYPE=image/png:https://www.martmites.com/wp-content/uploads/2023/02/borninmane.png
END:VEVENT
BEGIN:VEVENT
DTSTART;TZID=Europe/Paris:20230527T080000
DTEND;TZID=Europe/Paris:20230528T190000
DTSTAMP:20260424T195652
CREATED:20230526T073820Z
LAST-MODIFIED:20230526T073913Z
UID:765-1685174400-1685300400@www.martmites.com
SUMMARY:programme du Born in Mane\, le festival
DESCRIPTION:
URL:https://www.martmites.com/event/programme-du-born-in-mane-le-festival/
LOCATION:mane
CATEGORIES:Culturel,rendez-vous
ATTACH;FMTTYPE=image/png:https://www.martmites.com/wp-content/uploads/2023/05/planning-born-in.png
END:VEVENT
END:VCALENDAR