BEGIN:VCALENDAR
VERSION:2.0
PRODID:-//Les mARTmites - ECPv6.9.0//NONSGML v1.0//EN
CALSCALE:GREGORIAN
METHOD:PUBLISH
X-ORIGINAL-URL:https://www.martmites.com
X-WR-CALDESC:Évènements pour Les mARTmites
REFRESH-INTERVAL;VALUE=DURATION:PT1H
X-Robots-Tag:noindex
X-PUBLISHED-TTL:PT1H
BEGIN:VTIMEZONE
TZID:Europe/Paris
BEGIN:DAYLIGHT
TZOFFSETFROM:+0100
TZOFFSETTO:+0200
TZNAME:CEST
DTSTART:20230326T010000
END:DAYLIGHT
BEGIN:STANDARD
TZOFFSETFROM:+0200
TZOFFSETTO:+0100
TZNAME:CET
DTSTART:20231029T010000
END:STANDARD
END:VTIMEZONE
BEGIN:VEVENT
DTSTART;TZID=Europe/Paris:20230704T090000
DTEND;TZID=Europe/Paris:20230704T120000
DTSTAMP:20260424T172307
CREATED:20230627T115142Z
LAST-MODIFIED:20230627T115412Z
UID:858-1688461200-1688472000@www.martmites.com
SUMMARY:Atelier musique bruitiste - Résidence Selo
DESCRIPTION:Du 26 juin au 26 juillet\, nous\, Sarah et Mateo\, explorerons « la nuit » à Saint-Etienne-Les-Orgues. Comment est habité le village\, la nuit\, par ses habitant.e.s ? Que se passe-t-il dans les rues de réel ou de fictionnel ?\nA quoi rêve-t-on ? Que faisons-nous la nuit ?\n \nMardi 4 Juillet  au Salon des Apothicaires de 9h à 12h \n \nAtelier musique bruitiste et initiation à l’électroacoustique : emmenez-vos instruments et objets sonores: ballons de baudruches\, objets du quotidien au sons incongrus…\n \nCes rencontres ont lieu dans le cadre d’une résidence en territoire « Rouvrir le Monde » organisée par les mARTmites soutenu par la DRAC Paca\, en partenariat avec les Salon des Apothicaires et la Mairie de Saint Étienne les Orgues.
URL:https://www.martmites.com/event/atelier-musique-bruitiste-residence-selo/
LOCATION:Salon des Apothicaires\, Saint Etienne Les Orgues
CATEGORIES:Culturel
ATTACH;FMTTYPE=image/png:https://www.martmites.com/wp-content/uploads/2023/06/Screenshot-2023-06-27-13.43.41.png
END:VEVENT
BEGIN:VEVENT
DTSTART;TZID=Europe/Paris:20230705T213000
DTEND;TZID=Europe/Paris:20230705T230000
DTSTAMP:20260424T172307
CREATED:20230627T124522Z
LAST-MODIFIED:20230627T124908Z
UID:872-1688592600-1688598000@www.martmites.com
SUMMARY:Ballade nocturne - Résidence Selo
DESCRIPTION:Du 26 juin au 26 juillet\, nous\, Sarah et Mateo\, explorerons « la nuit » à Saint-Etienne-Les-Orgues. Comment est habité le village\, la nuit\, par ses habitant.e.s ? Que se passe-t-il dans les rues de réel ou de fictionnel ?\nA quoi rêve-t-on ? Que faisons-nous la nuit ? \nMercredi 5 juillet – Départ du Salon des Apothicaires  \nà partir de 21h30 : Ballade nocturne\, écouter et regarder le village la nuit (prises de sons\, récits réels et fictionnels in situ…) \nCes rencontres ont lieu dans le cadre d’une résidence en territoire « Rouvrir le Monde » organisée par les mARTmites soutenu par la DRAC Paca\, en partenariat avec les Salon des Apothicaires et la Mairie de Saint Étienne les Orgues.
URL:https://www.martmites.com/event/ballade-nocturne-residence-selo/
LOCATION:Saint Etienne les Orgues
CATEGORIES:Culturel
ATTACH;FMTTYPE=image/png:https://www.martmites.com/wp-content/uploads/2023/06/Screenshot-2023-06-27-13.55.15.png
END:VEVENT
BEGIN:VEVENT
DTSTART;TZID=Europe/Paris:20230706T090000
DTEND;TZID=Europe/Paris:20230706T120000
DTSTAMP:20260424T172307
CREATED:20230627T125708Z
LAST-MODIFIED:20230627T125708Z
UID:876-1688634000-1688644800@www.martmites.com
SUMMARY:Collecte de récits autour de la nuit / Résidence Selo
DESCRIPTION:Du 26 juin au 26 juillet\, nous\, Sarah et Mateo\, explorerons « la nuit » à Saint-Etienne-Les-Orgues. Comment est habité le village\, la nuit\, par ses habitant.e.s ? Que se passe-t-il dans les rues de réel ou de fictionnel ?\nA quoi rêve-t-on ? Que faisons-nous la nuit ? \nJeudi 6 Juillet au Salon des Apothicaires de 9h à 12h : Récits d’expériences nocturnes réels ou fictionnels\, atelier d’écriture\, partage d’expériences et prise de sons. l est possible de rejoindre ou de quitter l’atelier en cours de route. \nCes rencontres ont lieu dans le cadre d’une résidence en territoire « Rouvrir le Monde » organisée par les mARTmites soutenu par la DRAC Paca\, en partenariat avec les Salon des Apothicaires et la Mairie de Saint Étienne les Orgues.
URL:https://www.martmites.com/event/collecte-de-recits-autour-de-la-nuit-residence-selo/
CATEGORIES:Culturel
ATTACH;FMTTYPE=image/jpeg:https://www.martmites.com/wp-content/uploads/2023/06/IMG_20230627_104927-1-scaled.jpg
END:VEVENT
END:VCALENDAR