BEGIN:VCALENDAR
VERSION:2.0
PRODID:-//Les mARTmites - ECPv6.9.0//NONSGML v1.0//EN
CALSCALE:GREGORIAN
METHOD:PUBLISH
X-WR-CALNAME:Les mARTmites
X-ORIGINAL-URL:https://www.martmites.com
X-WR-CALDESC:Évènements pour Les mARTmites
REFRESH-INTERVAL;VALUE=DURATION:PT1H
X-Robots-Tag:noindex
X-PUBLISHED-TTL:PT1H
BEGIN:VTIMEZONE
TZID:Europe/Paris
BEGIN:DAYLIGHT
TZOFFSETFROM:+0100
TZOFFSETTO:+0200
TZNAME:CEST
DTSTART:20230326T010000
END:DAYLIGHT
BEGIN:STANDARD
TZOFFSETFROM:+0200
TZOFFSETTO:+0100
TZNAME:CET
DTSTART:20231029T010000
END:STANDARD
END:VTIMEZONE
BEGIN:VEVENT
DTSTART;TZID=Europe/Paris:20231004T100000
DTEND;TZID=Europe/Paris:20231004T113000
DTSTAMP:20260424T132152
CREATED:20230915T152628Z
LAST-MODIFIED:20230915T152628Z
UID:887-1696413600-1696419000@www.martmites.com
SUMMARY:Bulle de chant - ATELIER PARENTS-ENFANTS
DESCRIPTION:Les MARTmites s’associent avec Le Petit Duc et Le K’fé Quoi et vous proposent\nMER 4 OCT à 10H\nATELIER PARENTS ENFANTS : BULLE DE CHANT\n[Chant et jeux musicaux / 45 min]\nAvec Watsü Sound https://www.watsusound.fr/\nÀ travers chants et jeux musicaux\, venez vivre un moment de partage privilégié avec votre jeune enfant à la découverte des sons et des chansons à emporter !\nDès la naissance\nTARIFS – Gratuit sur réservation à mediation@le-kfe-quoi.com\nà Saint-Etienne-les-Orgues\, Place de la Fontaine Ronde
URL:https://www.martmites.com/event/bulle-de-chant-atelier-parents-enfants/
LOCATION:Place de la fontaine ronde\, Saint Etienne Les Orgues
CATEGORIES:Culturel
ATTACH;FMTTYPE=image/png:https://www.martmites.com/wp-content/uploads/2023/09/Screenshot-2023-09-15-17.23.35.png
END:VEVENT
BEGIN:VEVENT
DTSTART;TZID=Europe/Paris:20231014T120000
DTEND;TZID=Europe/Paris:20231014T200000
DTSTAMP:20260424T132152
CREATED:20231012T075324Z
LAST-MODIFIED:20231012T075324Z
UID:903-1697284800-1697313600@www.martmites.com
SUMMARY:"Vos nuits" - Sortie de résidence
DESCRIPTION:Au salon des Apothicaires  :\nEXPOSITION PHOTO pendant les horaires d’ouvertures du salon \nSur la place de l’église :\n “SIESTE SONORE”  de 16h à 17h \nécoute des entretiens réalisés par les artistes Sarah Ouazzani et Mathieu Marc avec les habitants de Saint Etienne les Orgues Yéti : APERO-CONCERT à 18H30 : Faunes et flores sonores et électroacoustique\nPierlau Bertolino: vielle à roue/pédales d’effet\,\nSarah Ouazzani: voix/flûtes/objets sonores/électroacoustique \nEntrée libre\nCrêpes\, vin chaud et soupe  \nCet événement fait suite à la résidence de Sarah Ouazzani et Mathieu Marc menée en juillet 2023 effectuée en partenariat avec la commune de Saint-Etienne les Orgues et le salon des Apothicaires\, et soutenue par la DRAC PACA grâce au dispositif été culturel \nCopyright image sarah Ouazzani 
URL:https://www.martmites.com/event/vos-nuits-sortie-de-residence/
LOCATION:Saint Etienne les Orgues
CATEGORIES:Culturel
ATTACH;FMTTYPE=image/jpeg:https://www.martmites.com/wp-content/uploads/2023/09/P1220862-copie.jpg
END:VEVENT
END:VCALENDAR