BEGIN:VCALENDAR
VERSION:2.0
PRODID:-//Les mARTmites - ECPv6.9.0//NONSGML v1.0//EN
CALSCALE:GREGORIAN
METHOD:PUBLISH
X-WR-CALNAME:Les mARTmites
X-ORIGINAL-URL:https://www.martmites.com
X-WR-CALDESC:Évènements pour Les mARTmites
REFRESH-INTERVAL;VALUE=DURATION:PT1H
X-Robots-Tag:noindex
X-PUBLISHED-TTL:PT1H
BEGIN:VTIMEZONE
TZID:Europe/Paris
BEGIN:DAYLIGHT
TZOFFSETFROM:+0100
TZOFFSETTO:+0200
TZNAME:CEST
DTSTART:20240331T010000
END:DAYLIGHT
BEGIN:STANDARD
TZOFFSETFROM:+0200
TZOFFSETTO:+0100
TZNAME:CET
DTSTART:20241027T010000
END:STANDARD
END:VTIMEZONE
BEGIN:VEVENT
DTSTART;TZID=Europe/Paris:20240224T080000
DTEND;TZID=Europe/Paris:20240322T163000
DTSTAMP:20260424T071244
CREATED:20240213T140933Z
LAST-MODIFIED:20240213T141055Z
UID:978-1708761600-1711125000@www.martmites.com
SUMMARY:Résidence V.U.E - Sophie Bergier
DESCRIPTION:L’architecte Sophie Bergier est en résidence cet hiver à Saint-Etienne-les-Orgues avec son projet « V.U.E ».\nElle nous propose\, en complicité avec les habitant.e.s du village de Saint-Etienne-les-Orgues d’élaborer une signalétique sensible permettant un parcours aventureux et émotionnel du village.\nAprès plusieurs ateliers à l’école communale\, ce sont à présents les adultes du village qui sont invités à lui raconter leur parcours préféré\, les lieux les plus ou les moins regardés\, ceux qui ne sont pas toujours visibles\, etc…\nNous vous invitons à rencontrer Sophie Bergier\n Le samedi 24 février à 12h00 à la grande tablée au salon des Apothicaires et\n Le mercredi 28 février à 12h30 sur le marché de Saint-Etienne-les-Orgues.\nsur rdv du 11/03 au 22/03\nLa première présentation publique d’une partie du travail aura lieu le vendredi 22 mars à partir de 16h30
URL:https://www.martmites.com/event/residence-v-u-e-sophie-bergier-cartographie-sensible-du-village/
CATEGORIES:Culturel
ATTACH;FMTTYPE=image/png:https://www.martmites.com/wp-content/uploads/2024/02/signaletique.png
END:VEVENT
BEGIN:VEVENT
DTSTART;TZID=Europe/Paris:20240314T133000
DTEND;TZID=Europe/Paris:20240314T153000
DTSTAMP:20260424T071244
CREATED:20240220T104324Z
LAST-MODIFIED:20240305T084926Z
UID:1013-1710423000-1710430200@www.martmites.com
SUMMARY:Atelier\, objets nomades du FRAC - école de Saint-Etienne-les-Orgues
DESCRIPTION:Le Sac métamorphose propose la découverte des œuvres de cinq artistes de la collection du Frac portant chacun un regard singulier sur la métamorphose. \nMarie-Ange Guilleminot et Franck & Olivier Turpin interrogent le corps et ses transformations\, Michel Blazy joue avec matière et microcosme tandis que Claude Closky métamorphose un objet du quotidien en œuvre d’art. Grâce aux œuvres vidéo\, aux œuvres dite « mode d’emploi » et aux reproductions\, l’outil offre la possibilité de produire installations et performances en groupe\, de réaliser une exposition et de nombreux ateliers. \nAtelier mené par les médiatrices des mARTmites pour les CP et les CM1 avec les outils nomades du FRAC 
URL:https://www.martmites.com/event/atelier-objets-nomades-du-frac-ecole-de-saint-etienne-les-orgues/
LOCATION:Ecole Saint-Etienne-Les-Orgues
CATEGORIES:Culturel
ATTACH;FMTTYPE=image/png:https://www.martmites.com/wp-content/uploads/2024/02/FRAC-SAC-NOMADE-1.png
END:VEVENT
BEGIN:VEVENT
DTSTART;TZID=Europe/Paris:20240322T163000
DTEND;TZID=Europe/Paris:20240322T183000
DTSTAMP:20260424T071244
CREATED:20240305T084649Z
LAST-MODIFIED:20240305T084649Z
UID:1022-1711125000-1711132200@www.martmites.com
SUMMARY:Restitution de la résidence 👁️ V.U.E 👁️ PARTIE 1 /"La balade des enfants"
DESCRIPTION:Nous avons le plaisir de vous inviter à assister à la première partie de la restitution publique du projet V.U.E : Voie utile à l’émotion\, une résidence d’architecture en territoire.  \nV.U.E est une proposition de l’architecte Sophie Bergier d’élaborer une signalétique sensible de Saint-Etienne les Orgues en complicité avec les habitant-es du village.  \nCe projet est enrichi par la participation active des enfants de la commune qui seront les premiers à vous proposer leur parcours émotionnel du village et à vous présenter les premiers panneaux installés. \nLa signalétique réalisée reflétera une vision partagée de notre territoire mais aussi l’inspiration et l’imagination des élèves de l’école qui en sont les co-créateurs et nous dévoile une expérience enrichie de leur environnement. \nJoignez-vous à nous pour une courte balade guidée par les enfants de l’école\n Le vendredi 22 mars  \nDépart -16H30 – de l’ école de Saint-Etienne-les-Orgues\nArrivée 17H – Place de l’église de Saint-Etienne-les-Orgues où une buvette vous attendra.\nSur la place de l’église\, une surprise à découvrir en partenariat avec le Théâtre Durance \nUne deuxième partie de cette restitution aura lieu le samedi 7 juin avec l’ensemble des parcours et la signalétique complète
URL:https://www.martmites.com/event/restitution-de-la-residence-%f0%9f%91%81%ef%b8%8f-v-u-e-%f0%9f%91%81%ef%b8%8f-partie-1-la-balade-des-enfants/
LOCATION:Ecole Saint-Etienne-Les-Orgues
CATEGORIES:Culturel
ATTACH;FMTTYPE=image/png:https://www.martmites.com/wp-content/uploads/2024/02/vue.png
END:VEVENT
BEGIN:VEVENT
DTSTART;TZID=Europe/Paris:20240327T093000
DTEND;TZID=Europe/Paris:20240327T114500
DTSTAMP:20260424T071244
CREATED:20240220T111023Z
LAST-MODIFIED:20240220T111023Z
UID:1004-1711531800-1711539900@www.martmites.com
SUMMARY:Atelier de percussions corporelles - Parents/enfants
DESCRIPTION:Un atelier à vivre en famille mené par Olivier Vauquelin \nA partir de 9 ans \nGratuit sur inscription à l’association \nLes percussions corporelles sont un genre musical consistant à produire des mélodies ou des rythmes en utilisant le corps\, le plus commun mais aussi le plus simple des instruments de musique.\nCette activité est particulièrement riche : écoute active\, concentration\, mémorisation\, travail sur le rythme et les polyrythmies\, l’équilibre sonore\, le tempo\, l’improvisation\, la posture\, la maîtrise du corps\, tout en créant du lien social entre les différents participants\, le tout dans un cadre convivial et ludique. \nAujourd’hui\, les percussions corporelles constituent une discipline dont les vertus pédagogiques\, thérapeutiques ou artistiques sont reconnues au même titre que les autres pratiques instrumentales.\nElles nous placent devant une évidence : celle de re-connaître notre corps comme le premier des\ninstruments susceptibles de donner une dimension sensorielle au son. \nDéroulé « type » d’un atelier sur une journée :\n1. Présentation\n2. Echauffement corporel\n3. Découverte de la « palette » des sons\n4. Jeux de connection(s)\n5. Exercices rythmiques simples et courts\n6. Développement des rythmes\n7. Polyrythmies\n8. Improvisation au sein du groupe
URL:https://www.martmites.com/event/atelier-de-percussions-corporelles-parents-enfants/
LOCATION:Auditorium de Saint-Etienne-les-Orgues
CATEGORIES:Culturel
ATTACH;FMTTYPE=application/pdf:https://www.martmites.com/wp-content/uploads/2024/02/Les-liens-du-son-1.pdf
END:VEVENT
END:VCALENDAR