BEGIN:VCALENDAR
VERSION:2.0
PRODID:-//Les mARTmites - ECPv6.9.0//NONSGML v1.0//EN
CALSCALE:GREGORIAN
METHOD:PUBLISH
X-WR-CALNAME:Les mARTmites
X-ORIGINAL-URL:https://www.martmites.com
X-WR-CALDESC:Évènements pour Les mARTmites
REFRESH-INTERVAL;VALUE=DURATION:PT1H
X-Robots-Tag:noindex
X-PUBLISHED-TTL:PT1H
BEGIN:VTIMEZONE
TZID:Europe/Paris
BEGIN:DAYLIGHT
TZOFFSETFROM:+0100
TZOFFSETTO:+0200
TZNAME:CEST
DTSTART:20240331T010000
END:DAYLIGHT
BEGIN:STANDARD
TZOFFSETFROM:+0200
TZOFFSETTO:+0100
TZNAME:CET
DTSTART:20241027T010000
END:STANDARD
END:VTIMEZONE
BEGIN:VEVENT
DTSTART;TZID=Europe/Paris:20240608T150000
DTEND;TZID=Europe/Paris:20240608T230000
DTSTAMP:20260424T032919
CREATED:20240523T124533Z
LAST-MODIFIED:20240604T142242Z
UID:1084-1717858800-1717887600@www.martmites.com
SUMMARY:Sortie de résidence - V.U.E : Voie Utile à l'Emotion
DESCRIPTION:Restitution publique du projet V.U.E : Voie Utile à l’Emotion\, une résidence d’architecture en territoire.\nV.U.E est une proposition de l’architecte Sophie Bergier d’élaborer une signalétique sensible du village de Saint-Etienne-les-Orgues en complicité avec ses habitant-es.\nDécouverte du parcours de signalétique et invitation à la ferme du domaine Saint-Joseph pour d’autres découvertes. \n15H – RDV au Jardin de la forêt – Départ pour une balade avec les élèves accordéonistes de Eusku soinu\, le son des mains  \n16H – RDV à l’école municipale \n16H30 – Visite de la ferme du domaine Saint-Joseph en musique et dégustation des produits (miel\, huile olive…) \nou \n16H30 – Flânerie et découverte d’un certain récit du village en partenariat avec le Salon des Apothicaires – Places limitées\, inscription sur place \n18H – Atelier « Fabrique ton épouvantail » \n– 19H Partage de savoir sur les arbres présents à la ferme avec Laurence Chaber\, ethnobotaniste. \n– 19H30\, le salon des Apothicaires nous propose le concert de Rémi Journeaux\, chanson française folk ( au chapeau = prévoyez de quoi svp!). \n20H – DJ-SET avec DJ Zanoflex \nCôté restauration et buvette : frites\, assiettes composées\, crêpes et desserts\, bière et limonade Bulles….  Pensez à votre monnaie car nous n’avons pas de machine à CB. \nTout EST GRATUIT sur adhésion à l’association – libre et nécessaire  \n\nLes adresses:\nLe jardin de la forêt : Accessible à pied depuis le boulevard caste ou en voiture par la route de Lure\nLe domaine Saint-Joseph : ferme des Mayoux en face du Utile \nL’école : Rue de l’Arboux \n  \n\n  \n 
URL:https://www.martmites.com/event/sortie-de-residence-v-u-e-voie-utile-a-lemotion/
CATEGORIES:Culturel
ATTACH;FMTTYPE=image/jpeg:https://www.martmites.com/wp-content/uploads/2024/05/1.jpg
END:VEVENT
END:VCALENDAR